BEGIN:VCALENDAR
VERSION:2.0
PRODID:www.newron.com
BEGIN:VEVENT
UID:69e74ff7a9f2e
DTSTART:20210111T092412Z
SEQUENCE:0
TRANSP:OPAQUE
DTEND:20210114T092412Z
SUMMARY:Virtual H.C. Wainwright BioConnect 2021 Conference
CLASS:PUBLIC
DESCRIPTION:Virtual H.C. Wainwright BioConnect Conference
DTSTAMP:20260421T102247Z
END:VEVENT
END:VCALENDAR