BEGIN:VCALENDAR
VERSION:2.0
PRODID:www.newron.com
BEGIN:VEVENT
UID:69ecc6b1e1d9a
DTSTART;VALUE=DATE:20250916
SEQUENCE:0
TRANSP:OPAQUE
DTEND;VALUE=DATE:20260923
SUMMARY:Publication of Half-Year Report 2025
CLASS:PUBLIC
DESCRIPTION:publication of Newron HYR 
X-MICROSOFT-CDO-ALLDAYEVENT:TRUE
DTSTAMP:20260425T135041Z
END:VEVENT
END:VCALENDAR