BEGIN:VCALENDAR
VERSION:2.0
PRODID:www.newron.com
BEGIN:VEVENT
UID:69e74fe3a956b
DTSTART:20210224T090011Z
SEQUENCE:0
TRANSP:OPAQUE
DTEND:20210225T174511Z
SUMMARY:ODDO SEYDLER Digital Small & Mid Cap Conference 2021
CLASS:PUBLIC
DESCRIPTION:ODDO SEYDLER Digital Small & Mid Cap Conference 2021
DTSTAMP:20260421T102227Z
END:VEVENT
END:VCALENDAR