BEGIN:VCALENDAR
VERSION:2.0
PRODID:www.newron.com
BEGIN:VEVENT
UID:69e74ff8b34b0
DTSTART;VALUE=DATE:20210309
SEQUENCE:0
TRANSP:OPAQUE
DTEND;VALUE=DATE:20210311
SUMMARY:H.C. Wainwright Annual Global Life Sciences Conference 
CLASS:PUBLIC
DESCRIPTION:H.C. Wainwright Annual Global Life Sciences Conference
X-MICROSOFT-CDO-ALLDAYEVENT:TRUE
DTSTAMP:20260421T102248Z
END:VEVENT
END:VCALENDAR