BEGIN:VCALENDAR
VERSION:2.0
PRODID:www.newron.com
BEGIN:VEVENT
UID:69e7501c78cb8
DTSTART;VALUE=DATE:20210601
SEQUENCE:0
TRANSP:OPAQUE
DTEND;VALUE=DATE:20210604
SUMMARY:Jefferies Virtual Healthcare Conference
CLASS:PUBLIC
DESCRIPTION:Jefferies Virtual Healthcare Conference
X-MICROSOFT-CDO-ALLDAYEVENT:TRUE
DTSTAMP:20260421T102324Z
END:VEVENT
END:VCALENDAR