BEGIN:VCALENDAR
VERSION:2.0
PRODID:www.newron.com
BEGIN:VEVENT
UID:69e7502699352
DTSTART;VALUE=DATE:20210915
SEQUENCE:0
TRANSP:OPAQUE
DTEND;VALUE=DATE:20210917
LOCATION:Samsung Hall Zürich-Stettbach
SUMMARY:Investora Zürich 
CLASS:PUBLIC
DESCRIPTION:Investora Zürich 2021
X-MICROSOFT-CDO-ALLDAYEVENT:TRUE
DTSTAMP:20260421T102334Z
END:VEVENT
END:VCALENDAR