BEGIN:VCALENDAR
VERSION:2.0
PRODID:www.newron.com
BEGIN:VEVENT
UID:69e74ff7c2d14
DTSTART;VALUE=DATE:20210907
SEQUENCE:0
TRANSP:OPAQUE
DTEND;VALUE=DATE:20210908
LOCATION:Congress Center Basel\, Basel\, Switzerland
SUMMARY:Swiss Biotech Day 2021
CLASS:PUBLIC
DESCRIPTION:Swiss Biotech Day 2021
X-MICROSOFT-CDO-ALLDAYEVENT:TRUE
DTSTAMP:20260421T102247Z
END:VEVENT
END:VCALENDAR