BEGIN:VCALENDAR
VERSION:2.0
PRODID:www.newron.com
BEGIN:VEVENT
UID:69e7501c0c0dc
DTSTART;VALUE=DATE:20211122
SEQUENCE:0
TRANSP:OPAQUE
DTEND;VALUE=DATE:20211123
LOCATION:Online
SUMMARY:Deutsches Eigenkapitalforum 2021 
CLASS:PUBLIC
DESCRIPTION:Deutsches Eigenkapitalforum 2021 Online
X-MICROSOFT-CDO-ALLDAYEVENT:TRUE
DTSTAMP:20260421T102324Z
END:VEVENT
END:VCALENDAR