BEGIN:VCALENDAR
VERSION:2.0
PRODID:www.newron.com
BEGIN:VEVENT
UID:69e7501c03ae2
DTSTART;VALUE=DATE:20220110
SEQUENCE:0
TRANSP:OPAQUE
DTEND;VALUE=DATE:20220114
SUMMARY:H.C. Wainwright BioConnect Conference
CLASS:PUBLIC
DESCRIPTION:H.C. Wainwright BioConnect Conference
X-MICROSOFT-CDO-ALLDAYEVENT:TRUE
DTSTAMP:20260421T102324Z
END:VEVENT
END:VCALENDAR