BEGIN:VCALENDAR
VERSION:2.0
PRODID:www.newron.com
BEGIN:VEVENT
UID:69e75026ef2c2
DTSTART;VALUE=DATE:20220114
SEQUENCE:0
TRANSP:OPAQUE
DTEND;VALUE=DATE:20220115
SUMMARY:17th Baader Helvea Swiss Equities Conference
CLASS:PUBLIC
DESCRIPTION:17th Baader Helvea Swiss Equities Conference
X-MICROSOFT-CDO-ALLDAYEVENT:TRUE
DTSTAMP:20260421T102334Z
END:VEVENT
END:VCALENDAR