BEGIN:VCALENDAR
VERSION:2.0
PRODID:www.newron.com
BEGIN:VEVENT
UID:69e74fe3a9757
DTSTART;VALUE=DATE:20230515
SEQUENCE:0
TRANSP:OPAQUE
DTEND;VALUE=DATE:20230518
LOCATION:Le Meridien Hotel\, Frankfurt
SUMMARY:German Spring Conference 2023
CLASS:PUBLIC
DESCRIPTION:German Spring Conference
X-MICROSOFT-CDO-ALLDAYEVENT:TRUE
DTSTAMP:20260421T102227Z
END:VEVENT
END:VCALENDAR