BEGIN:VCALENDAR
VERSION:2.0
PRODID:www.newron.com
BEGIN:VEVENT
UID:69e75054ac60a
DTSTART;VALUE=DATE:20260511
SEQUENCE:0
TRANSP:OPAQUE
DTEND;VALUE=DATE:20260514
SUMMARY:German Spring Conference 2026 
CLASS:PUBLIC
DESCRIPTION:German Spring Conference 2026 
X-MICROSOFT-CDO-ALLDAYEVENT:TRUE
DTSTAMP:20260421T102420Z
END:VEVENT
END:VCALENDAR