BEGIN:VCALENDAR
VERSION:2.0
PRODID:www.newron.com
BEGIN:VEVENT
UID:69e75026aac32
DTSTART;VALUE=DATE:20200113
SEQUENCE:0
TRANSP:OPAQUE
DTEND;VALUE=DATE:20200117
LOCATION:San Francisco\, CA\, USA
SUMMARY:J.P. Morgan 38th Annual Healthcare Conference 2020
CLASS:PUBLIC
DESCRIPTION:J.P. Morgan 38th Annual Healthcare Conference 2020
X-MICROSOFT-CDO-ALLDAYEVENT:TRUE
DTSTAMP:20260421T102334Z
END:VEVENT
END:VCALENDAR